BEGIN:VCALENDAR
PRODID:-//eluceo/ical//2.0/EN
VERSION:2.0
CALSCALE:GREGORIAN
BEGIN:VEVENT
UID:ca061725b3b40d1fb89308b35445003e
DTSTAMP:20260423T113430Z
SUMMARY:4th Africa-UniNet General Assembly
DTSTART:20260928T080000
DTEND:20260930T180000
END:VEVENT
END:VCALENDAR
